BEGIN:VCALENDAR
VERSION:2.0
PRODID:-//Central Café - ECPv6.15.20//NONSGML v1.0//EN
CALSCALE:GREGORIAN
METHOD:PUBLISH
X-ORIGINAL-URL:https://central-cafe-ffb.de
X-WR-CALDESC:Veranstaltungen für Central Café
REFRESH-INTERVAL;VALUE=DURATION:PT1H
X-Robots-Tag:noindex
X-PUBLISHED-TTL:PT1H
BEGIN:VTIMEZONE
TZID:Europe/Berlin
BEGIN:DAYLIGHT
TZOFFSETFROM:+0100
TZOFFSETTO:+0200
TZNAME:CEST
DTSTART:20250330T010000
END:DAYLIGHT
BEGIN:STANDARD
TZOFFSETFROM:+0200
TZOFFSETTO:+0100
TZNAME:CET
DTSTART:20251026T010000
END:STANDARD
BEGIN:DAYLIGHT
TZOFFSETFROM:+0100
TZOFFSETTO:+0200
TZNAME:CEST
DTSTART:20260329T010000
END:DAYLIGHT
BEGIN:STANDARD
TZOFFSETFROM:+0200
TZOFFSETTO:+0100
TZNAME:CET
DTSTART:20261025T010000
END:STANDARD
BEGIN:DAYLIGHT
TZOFFSETFROM:+0100
TZOFFSETTO:+0200
TZNAME:CEST
DTSTART:20270328T010000
END:DAYLIGHT
BEGIN:STANDARD
TZOFFSETFROM:+0200
TZOFFSETTO:+0100
TZNAME:CET
DTSTART:20271031T010000
END:STANDARD
END:VTIMEZONE
BEGIN:VEVENT
DTSTART;TZID=Europe/Berlin:20260307T200000
DTEND;TZID=Europe/Berlin:20260307T230000
DTSTAMP:20260419T141637
CREATED:20251230T113515Z
LAST-MODIFIED:20251230T114034Z
UID:1705-1772913600-1772924400@central-cafe-ffb.de
SUMMARY:Peace Rebel Radio
DESCRIPTION:Peace Rebel Radio – Urban Folk mit Haltung \nPeace Rebel Radio ist das musikalische Aufeinandertreffen zweier Welten: Die mehrfach ausgezeichnete Jazz-Saxophonistin Carolyn Breuer trifft auf den energiegeladenen Rock’n’Roll-Gitarristen Christian Sudendorf. Gemeinsam erschaffen sie etwas Neues – eine Musikrichtung\, die sie selbst Urban Folk nennen. \nMal zart und poetisch\, mal kraftvoll und unbequem – das Duo verbindet akustische Gitarre und Saxophon zu einem eigenständigen Klangbild\, das tief verwurzelt ist im Folk mit Ausflügen zum Blues und Jazz\, aber den Puls der Großstadt atmet. Ihre Songs erzählen von Aufbruch und Widerstand\, von innerer Stärke und dem Mut zur Veränderung. Peace Rebel Radio steht für Musik mit Haltung – fernab von Beliebigkeit\, nah an der Realität. \nCarolyn Breuer \nCarolyn Breuer ist seit den 1990er-Jahren eine feste Größe der europäischen Jazzszene. Sie studierte Jazz-Saxophon in Hilversum und New York\, unter anderem bei Branford Marsalis und George Coleman. \nAls erste Frau spielte sie im Bundesjugendjazzorchester unter Peter Herbolzheimer\, tourte weltweit\, trat auf fast allen bedeutenden Jazz-Festivals Europas auf und veröffentlichte zahlreiche Alben unter eigenem Namen. Für ihre Aufnahme mit dem Concertgebouw-Orchester Amsterdam wurde sie mit dem Heidelberger Künstlerinnenpreis ausgezeichnet – als erste Jazzmusikerin überhaupt. \nChristian Sudendorf \nChristian Sudendorf kommt ursprünglich aus dem Rock’n’Roll. Mit seiner Gitarre tourte er unter anderem als Mitglied der V8 Wankers mit W.A.S.P. und Rose Tattoo durch Europa\, mit The Wild Magnolia Mariachis und den Mexican Tequila Guerrilleros als Hausband des legendären Titty Twisters und bringt eine rauere\, kompromisslose Klangfarbe in das Projekt ein. Seine musikalischen Wurzeln liegen im Blues\, Rock und Folk – seine Spielfreude ist unmittelbar und kraftvoll. \nGemeinsam bilden sie ein Duo\, das die Tiefe des Jazz\, die Direktheit des Rock und die Erzählkraft des Folk miteinander verwebt. Mal zart und poetisch\, mal kraftvoll und unbequem – Peace Rebel Radio verbindet akustische Gitarre und Saxophon zu einem Klangbild\, das den Puls der Großstadt atmet und doch tief in der akustischen Tradition verwurzelt ist. \nWas sie antreibt\, ist mehr als nur der Klang: Sie haben etwas zu sagen. Ihre Musik ist Protest und Poesie zugleich – ein rebellischer Aufruf zu Frieden\, Gerechtigkeit und einem bewussteren Miteinander. \nPeace Rebel Radio ist keine Hintergrundmusik. Es ist ein akustischer Weckruf. \nPeace Rebel Radio- Urban Folk
URL:https://central-cafe-ffb.de/event/peace-rebel-radio/
LOCATION:Central Café\, Augsburger Str. 12\, Fürstenfeldbruck\, 82256
CATEGORIES:Live Musik
ATTACH;FMTTYPE=image/jpeg:https://central-cafe-ffb.de/wp-content/uploads/2025/12/peace-Rebel-Radio-bild.jpeg
END:VEVENT
BEGIN:VEVENT
DTSTART;TZID=Europe/Berlin:20260313T200000
DTEND;TZID=Europe/Berlin:20260313T230000
DTSTAMP:20260419T141637
CREATED:20251230T121138Z
LAST-MODIFIED:20251230T121138Z
UID:1711-1773432000-1773442800@central-cafe-ffb.de
SUMMARY:The Creeping Candies
DESCRIPTION:Musik von der anderen Seite der Nacht\,\nirgendwo zwischen Blues\, Post Punk\, 60ties Garage und windschiefem Country\n„Vergangenheit und Gegenwart ergeben Zukunft“ (Augsburger Allgemeine 16.8.2025)\n40 Jahre nach ihrem Debut\, sind The Creeping Candies immer noch da. 40 Jahre die einer so guten wie\nabenteuerlichen Geschichte verbunden sind\, in deren Mittelpunkt bis heute die pure Freude am\nMusikmachen steht. Die Augsburger\, einst von Nikki Sudden gefördert und in dessen Schatten zur Legende\ngereift\, feiern sich und ihre Widersprüche: Mal melancholisch\, mal scharfzüngig\, mal völlig überdreht.\n„Musik die nicht glitzert\, sondern rau glimmt\, wie ein Kippenstummel auf dem Bordstein\num vier Uhr früh“ (Neue Szene Augsburg Juli 2025)\nVoller Energie sind The Creeping Candies immer noch so lässig wie großartig und inspiriert von 60iesGarage-Rock\, den sie inzwischen etwas countryfiziert haben. Und das hat nicht nur mit purer Freude zu\ntun\, sondern mit Haltung.\nSänger Hölle liefert mit seiner Stimme genau die Art von Schärfe\, die hängen bleibt. Das macht Lou-Reedund Iggy-Pop-Vergleiche fast unvermeidlich – und die ungestüme Energie der Stooges scheint durch. Auch\ndie Stones schauen mal ums Eck – dezent\, aber unüberhörbar.\n„40 Jahre nach der Gründung wirken The Creeping Candies immer noch so\, als hätten sie\nden Probenraum gerade erst gegen das Studio getauscht – und genau darin liegt der Reiz.“\n(OX Fanzine Nr. 182)\n„All diese Lorbeeren. Entweder m
URL:https://central-cafe-ffb.de/event/the-creeping-candies-2/
LOCATION:Central Café\, Augsburger Str. 12\, Fürstenfeldbruck\, 82256
CATEGORIES:Live Musik
ATTACH;FMTTYPE=image/png:https://central-cafe-ffb.de/wp-content/uploads/2024/11/Candies-Logo-gelb-rund.png
END:VEVENT
BEGIN:VEVENT
DTSTART;TZID=Europe/Berlin:20260314T180000
DTEND;TZID=Europe/Berlin:20260314T230000
DTSTAMP:20260419T141637
CREATED:20251230T121307Z
LAST-MODIFIED:20251230T121307Z
UID:1713-1773511200-1773529200@central-cafe-ffb.de
SUMMARY:Geschlossene Gesellschaft
DESCRIPTION:An diesen tag haben wir ab Ca 18 Uhr Geschlossen
URL:https://central-cafe-ffb.de/event/geschlossene-gesellschaft/
LOCATION:Central Café\, Augsburger Str. 12\, Fürstenfeldbruck\, 82256
CATEGORIES:Geschlossene Gesellschaft
ATTACH;FMTTYPE=image/png:https://central-cafe-ffb.de/wp-content/uploads/2024/03/cropped-Logo-Neu-2022.png
END:VEVENT
BEGIN:VEVENT
DTSTART;TZID=Europe/Berlin:20260321T200000
DTEND;TZID=Europe/Berlin:20260321T233000
DTSTAMP:20260419T141637
CREATED:20251230T121516Z
LAST-MODIFIED:20251230T121516Z
UID:1715-1774123200-1774135800@central-cafe-ffb.de
SUMMARY:Karaoke
DESCRIPTION:Die Bühne bebt\, doch das Orchester ist Leer\, das kann nur eines bedeuten KARAOKE im Central
URL:https://central-cafe-ffb.de/event/karaoke-5/
LOCATION:Central Café\, Augsburger Str. 12\, Fürstenfeldbruck\, 82256
CATEGORIES:Karaoke
ATTACH;FMTTYPE=image/jpeg:https://central-cafe-ffb.de/wp-content/uploads/2024/03/Karaoke-e1711012089244.jpg
END:VEVENT
BEGIN:VEVENT
DTSTART;TZID=Europe/Berlin:20260327T200000
DTEND;TZID=Europe/Berlin:20260327T233000
DTSTAMP:20260419T141637
CREATED:20260211T122854Z
LAST-MODIFIED:20260211T122854Z
UID:1813-1774641600-1774654200@central-cafe-ffb.de
SUMMARY:Pub Quiz
DESCRIPTION:Das beliebte Pub Quiz geht in die nächste Runden.Versammelt euer Team und stellt euch den Fragen aus Musik\, Kultur\, Gossip Shit und mehr.
URL:https://central-cafe-ffb.de/event/pub-quiz-20/
LOCATION:Central Café\, Augsburger Str. 12\, Fürstenfeldbruck\, 82256
CATEGORIES:Pub Quiz
ATTACH;FMTTYPE=image/jpeg:https://central-cafe-ffb.de/wp-content/uploads/2026/02/Pub-Quiz-27.03.jpg
END:VEVENT
BEGIN:VEVENT
DTSTART;TZID=Europe/Berlin:20260328T200000
DTEND;TZID=Europe/Berlin:20260328T230000
DTSTAMP:20260419T141637
CREATED:20251230T114539Z
LAST-MODIFIED:20251230T114539Z
UID:1709-1774728000-1774738800@central-cafe-ffb.de
SUMMARY:Foreignson and his Ghosts
DESCRIPTION:„Foreignson and his Ghosts machen Musik aus dem\, was bleibt\, wenn Worte fehlen. \nSeelenrock\, geboren aus Brüchen\, Narben und dem Mut\, weiterzugehen. \n  \nIhre Songs sind roh und verletzlich\, laut und leise zugleich. \nGitarren wie offene Fenster\, Texte wie Atemzüge nach schweren Tagen. \nNichts daran ist inszeniert. Alles ist echt. \n  \nLive wird daraus Nähe. \nEin Moment des Innehaltens. Ein gemeinsamer Herzschlag. \n  \nMusik für Menschen\, die fühlen – und bleiben.“
URL:https://central-cafe-ffb.de/event/foreignson-and-his-ghosts/
LOCATION:Central Café\, Augsburger Str. 12\, Fürstenfeldbruck\, 82256
CATEGORIES:Live Musik
ATTACH;FMTTYPE=image/jpeg:https://central-cafe-ffb.de/wp-content/uploads/2025/12/Foreignson-and-his-Ghosts-scaled.jpg
END:VEVENT
END:VCALENDAR