BEGIN:VCALENDAR
VERSION:2.0
PRODID:-//Central Café - ECPv6.15.20//NONSGML v1.0//EN
CALSCALE:GREGORIAN
METHOD:PUBLISH
X-WR-CALNAME:Central Café
X-ORIGINAL-URL:https://central-cafe-ffb.de
X-WR-CALDESC:Veranstaltungen für Central Café
REFRESH-INTERVAL;VALUE=DURATION:PT1H
X-Robots-Tag:noindex
X-PUBLISHED-TTL:PT1H
BEGIN:VTIMEZONE
TZID:Europe/Berlin
BEGIN:DAYLIGHT
TZOFFSETFROM:+0100
TZOFFSETTO:+0200
TZNAME:CEST
DTSTART:20230326T010000
END:DAYLIGHT
BEGIN:STANDARD
TZOFFSETFROM:+0200
TZOFFSETTO:+0100
TZNAME:CET
DTSTART:20231029T010000
END:STANDARD
BEGIN:DAYLIGHT
TZOFFSETFROM:+0100
TZOFFSETTO:+0200
TZNAME:CEST
DTSTART:20240331T010000
END:DAYLIGHT
BEGIN:STANDARD
TZOFFSETFROM:+0200
TZOFFSETTO:+0100
TZNAME:CET
DTSTART:20241027T010000
END:STANDARD
BEGIN:DAYLIGHT
TZOFFSETFROM:+0100
TZOFFSETTO:+0200
TZNAME:CEST
DTSTART:20250330T010000
END:DAYLIGHT
BEGIN:STANDARD
TZOFFSETFROM:+0200
TZOFFSETTO:+0100
TZNAME:CET
DTSTART:20251026T010000
END:STANDARD
END:VTIMEZONE
BEGIN:VEVENT
DTSTART;TZID=Europe/Berlin:20241102T200000
DTEND;TZID=Europe/Berlin:20241102T200000
DTSTAMP:20260419T143806
CREATED:20240829T163226Z
LAST-MODIFIED:20240829T180928Z
UID:579-1730577600-1730577600@central-cafe-ffb.de
SUMMARY:BluGinger
DESCRIPTION:BluGinger – Ein Trio\, das begeistert ! \nBluGinger nimmt das Publikum mit auf eine Reise durch vielschichtige Musikgenres – Covers von Blues über Rock und Jazz – Perlen der Musikgeschichte aus den 60ern und 70ern bis heute werden neu und interpretiert und in der Besetzung Gesang und Ukulele\, Gitarre und einer virtuosen Bluesharp klingen diese Klassiker wunderbar frisch und transparent .
URL:https://central-cafe-ffb.de/event/bluginger/
LOCATION:Central Café\, Augsburger Str. 12\, Fürstenfeldbruck\, 82256
CATEGORIES:Live Musik
ATTACH;FMTTYPE=image/jpeg:https://central-cafe-ffb.de/wp-content/uploads/2024/08/bluginger2.jpg
END:VEVENT
BEGIN:VEVENT
DTSTART;TZID=Europe/Berlin:20241109T200000
DTEND;TZID=Europe/Berlin:20241109T200000
DTSTAMP:20260419T143806
CREATED:20241107T105949Z
LAST-MODIFIED:20241107T110057Z
UID:702-1731182400-1731182400@central-cafe-ffb.de
SUMMARY:Giorgio & Band
DESCRIPTION:Nach der absage der Wild Bulls\, retten GIORGIO & BAND den Abend. \nWer „Who knows“ kennt\, ist hier bestens aufgehoben\, unplugged und ehrlicher sound
URL:https://central-cafe-ffb.de/event/giorgio-band/
LOCATION:Central Café\, Augsburger Str. 12\, Fürstenfeldbruck\, 82256
CATEGORIES:Live Musik
ATTACH;FMTTYPE=image/jpeg:https://central-cafe-ffb.de/wp-content/uploads/2024/08/IMG-20241106-WA00001.jpg
END:VEVENT
BEGIN:VEVENT
DTSTART;TZID=Europe/Berlin:20241109T200000
DTEND;TZID=Europe/Berlin:20241109T230000
DTSTAMP:20260419T143806
CREATED:20240827T133408Z
LAST-MODIFIED:20241107T105543Z
UID:543-1731182400-1731193200@central-cafe-ffb.de
SUMMARY:Wild Bulls  !!!Abgesagt!!!!
DESCRIPTION:Leider aus familiären Gründen abgesagt \nDie Wild Bulls sind sieben rockbegeisterte Musiker\, die auf authentische und handgemachte Rockmusik stehen.\nIn der Metropolregion München haben sie sich zusammengetan\, um die Hallen\, Kneipen und Feste der Region zu rocken.\nNeben bekannten Hits aus den 80er und 90er Jahren begeistern sie das Partyvolk auch mit Interpretationen aktuellerer Songs aus diversen Genres und bringen jedes Fest zum Kochen. \n\nhttp://www.wild-bulls.de
URL:https://central-cafe-ffb.de/event/wild-bulls/
LOCATION:Central Café\, Augsburger Str. 12\, Fürstenfeldbruck\, 82256
CATEGORIES:Live Musik
ATTACH;FMTTYPE=image/jpeg:https://central-cafe-ffb.de/wp-content/uploads/2024/08/FB_IMG_1730886615866-scaled.jpg
END:VEVENT
BEGIN:VEVENT
DTSTART;TZID=Europe/Berlin:20241116T200000
DTEND;TZID=Europe/Berlin:20241116T230000
DTSTAMP:20260419T143806
CREATED:20241026T153920Z
LAST-MODIFIED:20241026T154650Z
UID:686-1731787200-1731798000@central-cafe-ffb.de
SUMMARY:Oil and Gasoline
DESCRIPTION:OIL & GASOLINEBlues N’ Rock\, immer groovy. Ein kulturelles Schmankerl\, garniert mit musikalischen Schweinereien und obendrein gespickt mit explosiven Blues-Eskalationen. Die vier Haudegen von OIL&GASOLINE feuern Perlen von z.B. Albert Collins\, Coco Montoya oder Freddy King und Klassiker von z.B. ZZ Top sowie Joe Cocker von der Bühne. Energiegeladen reißen sie ihr Publikum von den Stühlen. Sie fackeln nicht lange\, daher lautet ihr Motto:„WE WILL ROCK YOU TO THE BONES“
URL:https://central-cafe-ffb.de/event/oil-and-gasoline/
LOCATION:Central Café\, Augsburger Str. 12\, Fürstenfeldbruck\, 82256
CATEGORIES:Live Musik
ATTACH;FMTTYPE=image/png:https://central-cafe-ffb.de/wp-content/uploads/2024/10/oil-and-gasoline.png
END:VEVENT
BEGIN:VEVENT
DTSTART;TZID=Europe/Berlin:20241123T200000
DTEND;TZID=Europe/Berlin:20241123T230000
DTSTAMP:20260419T143806
CREATED:20240829T135026Z
LAST-MODIFIED:20240829T135026Z
UID:561-1732392000-1732402800@central-cafe-ffb.de
SUMMARY:Maikay & Friends
DESCRIPTION:Maikay & Friends nehmen euch mit auf eine Musikalische Reise durch die Epochen. \nVon REM bis Die Ärzte ist für jeden etwas dabei.
URL:https://central-cafe-ffb.de/event/maikay-friends/
LOCATION:Central Café\, Augsburger Str. 12\, Fürstenfeldbruck\, 82256
ATTACH;FMTTYPE=image/jpeg:https://central-cafe-ffb.de/wp-content/uploads/2024/08/IMG-20230126-WA0002.jpg
END:VEVENT
BEGIN:VEVENT
DTSTART;TZID=Europe/Berlin:20241127T200000
DTEND;TZID=Europe/Berlin:20241127T230000
DTSTAMP:20260419T143806
CREATED:20241108T110037Z
LAST-MODIFIED:20241108T110512Z
UID:720-1732737600-1732748400@central-cafe-ffb.de
SUMMARY:Pub Quiz
DESCRIPTION:Das beliebte Pub Quiz geht in die nächste Runde! Rund 100 Fragen aus 10 Kategorien\, von Geografie\, Musik bis zum berüchtigten Gossip-shit. \nIn Teams wird Geknobelt\, geraten und gehofft\, bider Sieger nach 10 Runden feststeht
URL:https://central-cafe-ffb.de/event/pub-quiz-3/
LOCATION:Central Café\, Augsburger Str. 12\, Fürstenfeldbruck\, 82256
CATEGORIES:Pub Quiz
ATTACH;FMTTYPE=image/webp:https://central-cafe-ffb.de/wp-content/uploads/2024/11/IMG_20241107_140859_793.webp
END:VEVENT
BEGIN:VEVENT
DTSTART;TZID=Europe/Berlin:20241130T200000
DTEND;TZID=Europe/Berlin:20241130T230000
DTSTAMP:20260419T143806
CREATED:20241026T154823Z
LAST-MODIFIED:20241026T154823Z
UID:692-1732996800-1733007600@central-cafe-ffb.de
SUMMARY:Ben Wood Inferno
DESCRIPTION:!! Smell the smoke and see the flames – ‚cause this show is for you !!!! Das infernalische Triumvirat feuert ein bedrohliches Best Of aus Ben Woods gesamtenPsychoRock’n’Roll – Trashblues – VaudevilleTango – Portfolio ab: Über 300 Showsin Europa und Japan\, u.a. als Support für Legenden wie The Godfathers und Tav Falco’sPanther Burns\, haben dieses einzigartige Gumbo aus Gefahr\, Komik und Krawall kreiert !!!! Mit dem aktuellen Album „Psychomania“ (Sumo Rex / Broken Silence) tourt das BenWood Inferno derzeit wie wahnhaft marodierende Cupidos durch Europa: ungezähmteTempramentexplosionen in Anti-Pastell\, das letzte große Ungewaschene im Rock’n’Roll !!Don’t you dare miss it !!\nPressestimmen:„[Ben Wood Inferno] ist die schleichende Selbstzerfleischung\, als wäre Dr. Frank N. Furtervom Planeten Transsexual hinabgestiegen\, um sich im Spektakel zu suhlen. Besonders aufder Bühne entfalten sich die Qualitäten: Rock and Roll-Musical mit Anarcho-Effekt.“Underdog Fanzine\, April 2021\n„Ben Wood legt einen messianischen Eifer an den Tag und klingt wie ein manischerPrediger. Ein rundes\, rauhes Album mit Kraft\, Köpfchen\, Seele und Outlaw-Groove\, demzu keiner Minute die Puste ausgeht.“ OX-Fanzine\, Dezember 2019
URL:https://central-cafe-ffb.de/event/ben-wood-inferno-3/
LOCATION:Central Café\, Augsburger Str. 12\, Fürstenfeldbruck\, 82256
CATEGORIES:Live Musik
ATTACH;FMTTYPE=image/png:https://central-cafe-ffb.de/wp-content/uploads/2024/10/5-BenWoodInferno-Logo627.png
END:VEVENT
END:VCALENDAR