BEGIN:VCALENDAR
VERSION:2.0
PRODID:-//Central Café - ECPv6.15.20//NONSGML v1.0//EN
CALSCALE:GREGORIAN
METHOD:PUBLISH
X-ORIGINAL-URL:https://central-cafe-ffb.de
X-WR-CALDESC:Veranstaltungen für Central Café
REFRESH-INTERVAL;VALUE=DURATION:PT1H
X-Robots-Tag:noindex
X-PUBLISHED-TTL:PT1H
BEGIN:VTIMEZONE
TZID:Europe/Berlin
BEGIN:DAYLIGHT
TZOFFSETFROM:+0100
TZOFFSETTO:+0200
TZNAME:CEST
DTSTART:20230326T010000
END:DAYLIGHT
BEGIN:STANDARD
TZOFFSETFROM:+0200
TZOFFSETTO:+0100
TZNAME:CET
DTSTART:20231029T010000
END:STANDARD
BEGIN:DAYLIGHT
TZOFFSETFROM:+0100
TZOFFSETTO:+0200
TZNAME:CEST
DTSTART:20240331T010000
END:DAYLIGHT
BEGIN:STANDARD
TZOFFSETFROM:+0200
TZOFFSETTO:+0100
TZNAME:CET
DTSTART:20241027T010000
END:STANDARD
BEGIN:DAYLIGHT
TZOFFSETFROM:+0100
TZOFFSETTO:+0200
TZNAME:CEST
DTSTART:20250330T010000
END:DAYLIGHT
BEGIN:STANDARD
TZOFFSETFROM:+0200
TZOFFSETTO:+0100
TZNAME:CET
DTSTART:20251026T010000
END:STANDARD
END:VTIMEZONE
BEGIN:VEVENT
DTSTART;TZID=Europe/Berlin:20240706T200000
DTEND;TZID=Europe/Berlin:20240706T230000
DTSTAMP:20260419T222559
CREATED:20240705T145105Z
LAST-MODIFIED:20240705T145105Z
UID:493-1720296000-1720306800@central-cafe-ffb.de
SUMMARY:Wirtrio
DESCRIPTION:Nach Krankheits bedingter Absage der BLACK HAT BLUES BAND\, springen die Männer vom Wirtrio für sie ein.
URL:https://central-cafe-ffb.de/event/wirtrio-2/
CATEGORIES:Live Musik
ATTACH;FMTTYPE=image/jpeg:https://central-cafe-ffb.de/wp-content/uploads/2024/03/wirtrio-2.0.jpg
END:VEVENT
BEGIN:VEVENT
DTSTART;TZID=Europe/Berlin:20240712T200000
DTEND;TZID=Europe/Berlin:20240712T230000
DTSTAMP:20260419T222559
CREATED:20240502T084846Z
LAST-MODIFIED:20240502T084846Z
UID:361-1720814400-1720825200@central-cafe-ffb.de
SUMMARY:Stephan Worbs
DESCRIPTION:Stephan Worbs.. Egal ob Solo\, Als Spooner oder im Duett mit Bruce Ghetta\, wenn Er in die Saiten seiner Gitarre greift ist gute Unterhaltung sicher. Von Ac/dc bis Helene Fischer hat er fast alles im Repertoire. Dabei spielt er immer mit vollen Einsatz und Interagiert mit dem Publikum wie kaum ein Zweiter.
URL:https://central-cafe-ffb.de/event/stephan-worbs/
LOCATION:Central Café\, Augsburger Str. 12\, Fürstenfeldbruck\, 82256
CATEGORIES:Live Musik
ATTACH;FMTTYPE=image/jpeg:https://central-cafe-ffb.de/wp-content/uploads/2024/05/stephan-Worbs.jpg
END:VEVENT
BEGIN:VEVENT
DTSTART;TZID=Europe/Berlin:20240713T200000
DTEND;TZID=Europe/Berlin:20240713T230000
DTSTAMP:20260419T222559
CREATED:20240417T101045Z
LAST-MODIFIED:20240417T103301Z
UID:325-1720900800-1720911600@central-cafe-ffb.de
SUMMARY:Jam Jam in the House
DESCRIPTION:JamJam eine vierköpfige Cover Band mit einem breiten Spektrum an Musikrichtungen von Blues\, Rock\, Pop über Soul\, Funky bis hin zu Jazz – meist auf eigene Art Inerpretiert! \nWir sind voller Vorfreude mit Euch einen schönen Abend zu Verbringen! \nhttps://www.instagram.com/jamjaminthehouse/
URL:https://central-cafe-ffb.de/event/jam-jam-in-the-house/
LOCATION:Central Café\, Augsburger Str. 12\, Fürstenfeldbruck\, 82256
CATEGORIES:Live Musik
ATTACH;FMTTYPE=image/jpeg:https://central-cafe-ffb.de/wp-content/uploads/2024/04/IMG-20240417-WA0002.jpg
END:VEVENT
BEGIN:VEVENT
DTSTART;VALUE=DATE:20240719
DTEND;VALUE=DATE:20240723
DTSTAMP:20260419T222559
CREATED:20240417T105301Z
LAST-MODIFIED:20240619T123448Z
UID:331-1721361600-1721620799@central-cafe-ffb.de
SUMMARY:Altstadtfest
DESCRIPTION:Ganz Bruck feiert\, bei uns gibts kühles Bier und Live Musik. \nWie gewohnt gibts auf unserer Bühne Livemusik\,  unser Program (noch nicht endgültig): \nFreitag 20.00 – 24.00 Uhr „Rock Division“ \nSamstag 14.00 – 16.00 Uhr „Bluehouse“\nSamstag 17.00 – 18.30 Uhr „Halifax and Friends“\nSamstag 20.00 – 24.00 Uhr „Reload“ \nSonntag 16.00 – 18.00 Uhr „Wirtrio“\nSonntag 19.00 – 22.00 uhr “ Henry Caddie Band“ \n 
URL:https://central-cafe-ffb.de/event/altstadtfest/
LOCATION:Central Café\, Augsburger Str. 12\, Fürstenfeldbruck\, 82256
CATEGORIES:Live Musik
ATTACH;FMTTYPE=image/jpeg:https://central-cafe-ffb.de/wp-content/uploads/2024/03/Logo-Neu-2022-748x300-1.jpg
END:VEVENT
BEGIN:VEVENT
DTSTART;TZID=Europe/Berlin:20240726T150000
DTEND;TZID=Europe/Berlin:20240727T020000
DTSTAMP:20260419T222559
CREATED:20240522T140246Z
LAST-MODIFIED:20240522T140246Z
UID:398-1722006000-1722045600@central-cafe-ffb.de
SUMMARY:Geschlossene Veranstaltung
DESCRIPTION:An diesen Tag schließen wir bereits um ca 15 Uhr! \nAbends haben wir einen Geschlossene Gesellschaft!
URL:https://central-cafe-ffb.de/event/geschlossene-veranstaltung/
CATEGORIES:Geschlossene Gesellschaft
ATTACH;FMTTYPE=image/png:https://central-cafe-ffb.de/wp-content/uploads/2024/03/cropped-Icon-Neu-2022-512x512-1.png
END:VEVENT
BEGIN:VEVENT
DTSTART;TZID=Europe/Berlin:20240727T200000
DTEND;TZID=Europe/Berlin:20240728T020000
DTSTAMP:20260419T222559
CREATED:20240502T094952Z
LAST-MODIFIED:20240502T094952Z
UID:366-1722110400-1722132000@central-cafe-ffb.de
SUMMARY:Jubiläums Karaoke.
DESCRIPTION:Zum 50ten mal heist es wieder: BÜHNE FREI für euch. \nDie Jubiläums ausgabe unseres beliebten Karaoke-Party
URL:https://central-cafe-ffb.de/event/jubilaeums-karaoke/
LOCATION:Central Café\, Augsburger Str. 12\, Fürstenfeldbruck\, 82256
CATEGORIES:Karaoke
ATTACH;FMTTYPE=image/jpeg:https://central-cafe-ffb.de/wp-content/uploads/2024/05/50.jpg
END:VEVENT
END:VCALENDAR