BEGIN:VCALENDAR
VERSION:2.0
PRODID:-//Central Café - ECPv6.15.20//NONSGML v1.0//EN
CALSCALE:GREGORIAN
METHOD:PUBLISH
X-WR-CALNAME:Central Café
X-ORIGINAL-URL:https://central-cafe-ffb.de
X-WR-CALDESC:Veranstaltungen für Central Café
REFRESH-INTERVAL;VALUE=DURATION:PT1H
X-Robots-Tag:noindex
X-PUBLISHED-TTL:PT1H
BEGIN:VTIMEZONE
TZID:Europe/Berlin
BEGIN:DAYLIGHT
TZOFFSETFROM:+0100
TZOFFSETTO:+0200
TZNAME:CEST
DTSTART:20230326T010000
END:DAYLIGHT
BEGIN:STANDARD
TZOFFSETFROM:+0200
TZOFFSETTO:+0100
TZNAME:CET
DTSTART:20231029T010000
END:STANDARD
BEGIN:DAYLIGHT
TZOFFSETFROM:+0100
TZOFFSETTO:+0200
TZNAME:CEST
DTSTART:20240331T010000
END:DAYLIGHT
BEGIN:STANDARD
TZOFFSETFROM:+0200
TZOFFSETTO:+0100
TZNAME:CET
DTSTART:20241027T010000
END:STANDARD
BEGIN:DAYLIGHT
TZOFFSETFROM:+0100
TZOFFSETTO:+0200
TZNAME:CEST
DTSTART:20250330T010000
END:DAYLIGHT
BEGIN:STANDARD
TZOFFSETFROM:+0200
TZOFFSETTO:+0100
TZNAME:CET
DTSTART:20251026T010000
END:STANDARD
END:VTIMEZONE
BEGIN:VEVENT
DTSTART;TZID=Europe/Berlin:20240406T200000
DTEND;TZID=Europe/Berlin:20240406T230000
DTSTAMP:20260420T034359
CREATED:20240321T090218Z
LAST-MODIFIED:20240402T112302Z
UID:131-1712433600-1712444400@central-cafe-ffb.de
SUMMARY:Washbone and Slide
DESCRIPTION:Leider müssen wir die Veranstaltung absagen! \n  \nAuf der Tour sind ein paar Veranstalter abgesprungen\, so das sich die Fahrt zu uns leider nicht mehr rechnen würde. \n  \nWir hoffen auf einen Nachhol Termin
URL:https://central-cafe-ffb.de/event/washbone-and-slide/
LOCATION:Central Café\, Augsburger Str. 12\, Fürstenfeldbruck\, 82256
CATEGORIES:Live Musik
ATTACH;FMTTYPE=image/jpeg:https://central-cafe-ffb.de/wp-content/uploads/2024/03/washbone-Kopie.jpg
END:VEVENT
BEGIN:VEVENT
DTSTART;TZID=Europe/Berlin:20240406T200000
DTEND;TZID=Europe/Berlin:20240406T230000
DTSTAMP:20260420T034359
CREATED:20240402T112712Z
LAST-MODIFIED:20240402T112724Z
UID:263-1712433600-1712444400@central-cafe-ffb.de
SUMMARY:Who Knows
DESCRIPTION:WHO KNOWS präsentieren Ihren Fans Musik mit einer besonderen Note.\nEgal ob Jimi Hendrix\, ZZ Top\, Cream oder den Doors – es gibt tanzbare Rhythmen mit ausgefeilten Arrangements. Doch auch bei Stücken legendärer Musiker wie Stevie Ray Vaughn\, Bill Withers\, Carlos Santana\, Rory Gallagher\, Billy Cobham u. a. kommen Zuhörer voll auf Ihre Kosten. Hier zeigt sich die Erfahrung der Musiker von WHO KNOWS
URL:https://central-cafe-ffb.de/event/whoknows/
LOCATION:Central Café\, Augsburger Str. 12\, Fürstenfeldbruck\, 82256
CATEGORIES:Live Musik
ATTACH;FMTTYPE=image/jpeg:https://central-cafe-ffb.de/wp-content/uploads/2024/03/whoknows.jpg
END:VEVENT
BEGIN:VEVENT
DTSTART;TZID=Europe/Berlin:20240413T200000
DTEND;TZID=Europe/Berlin:20240413T230000
DTSTAMP:20260420T034359
CREATED:20240321T090842Z
LAST-MODIFIED:20240321T090933Z
UID:136-1713038400-1713049200@central-cafe-ffb.de
SUMMARY:Karaoke
DESCRIPTION:DAS Original!\nDie Legendäre Karaoke Party im Central
URL:https://central-cafe-ffb.de/event/karaoke/
LOCATION:Central Café\, Augsburger Str. 12\, Fürstenfeldbruck\, 82256
CATEGORIES:Karaoke
ATTACH;FMTTYPE=image/jpeg:https://central-cafe-ffb.de/wp-content/uploads/2024/03/Karaoke-e1711012089244.jpg
END:VEVENT
BEGIN:VEVENT
DTSTART;TZID=Europe/Berlin:20240420T200000
DTEND;TZID=Europe/Berlin:20240420T230000
DTSTAMP:20260420T034359
CREATED:20240322T103033Z
LAST-MODIFIED:20240322T105758Z
UID:174-1713643200-1713654000@central-cafe-ffb.de
SUMMARY:Deifesbruad
DESCRIPTION:Deifesbruad ist ein Rock- und Bluesrock-Powertrio\, das ihre Lieder in bayerischer Mundart singt. Ihr\npowergeladener Sound setzt sich zusammen aus Elementen des Blues\, Bluesrock\, Psychedelic Rock\,\nHardrock\, Classic Rock und Rock ’n‘ Roll\, dabei entsteht ihr eigener unverwechselbarer Sound\, den sie\nlive mit großartiger\, spektakulärer Bühnenshow vortragen. Man erkennt auch die Einflüsse ihrer\nHelden wie z. B. ZZ Top\, Cream\, Jimi Hendrix\, Rory Gallagher\, Stevie Ray Vaughan\, AC/DC uvm.\nDennoch schaffen sie es\, die Musik der 60er\, 70er\, 80er und 90er in ihrer eigenen Art wiederzugeben\nund voller Freude vorzutragen. Die groovigen Basslines\, der treibende Schlagzeugbeat und die\nvirtuose Gitarrenarbeit kann sich sehen lassen und versetzen in eine Zeit zurück\, in der\nhandgemachte Musik noch an erster Stelle stand. Letztes Jahr erschienen ihre beiden Singles „A\ndurchzechte Nacht“ und „Metzgerei“ (erhältlich bei Spotify\, Amazon Music\, Deezer und allen anderen\noffiziellen Verkaufsstellen) beim Plattenlabel „Donnerwetter Musik“ in München und sie zeigen\ndamit\, dass handgemachter Rock auch in bayerischer Mundart möglich ist und man keine Lederhosen\nbraucht\, um in Dialekt zu singen. Denn auch ihr Bühnenoutfitt sowie die Bühnenshow erinnert mehr\nan eine englische oder amerikanische Band\, nur die Texte sind auf bayerisch da. Zitat: „Englisch und\nSchriftdeitsch kenn ma ned gscheid\, des dad se bled oh hean und war ned authentisch gnua“\, so die\nBand.
URL:https://central-cafe-ffb.de/event/deifesbruad/
CATEGORIES:Live Musik
ATTACH;FMTTYPE=image/jpeg:https://central-cafe-ffb.de/wp-content/uploads/2024/03/Deifesbruad.jpg
END:VEVENT
BEGIN:VEVENT
DTSTART;TZID=Europe/Berlin:20240424T200000
DTEND;TZID=Europe/Berlin:20240424T233000
DTSTAMP:20260420T034359
CREATED:20240406T155200Z
LAST-MODIFIED:20240406T155927Z
UID:296-1713988800-1714001400@central-cafe-ffb.de
SUMMARY:PubQuiz
DESCRIPTION:Florian Weber gastiert mit seinem Legendären Pub Quiz bei uns.\nBITTE BEACHTEN:\nDas Pub Quiz findet an einem Mittwoch statt\nSPECIALS:\nCustomize your Burger / Burger Lotto\nBekannt aus den jungen Jahren des klubhouse oder den alten Zeiten der Alten Liebe\, könnt ihr eure Burger zusammenstellen. Aus mehr als zehn verschiedenen Zutaten könnt ihr euch euren Burger so zusammenstellen\, wie er euch am Besten schmeckt.\nWeitere kulinarische Spezialitäten sind die bekannten und beliebten Schinkennudeln vom Central\, sowie die Curry-Wurst und der Wurstsalat.\nDAS QUIZ:\nAuf mehreren Fernsehern werden euch Fragen aus zehn verschiedenen Kategorien gestellt\, die ihr im Team beantworten müsst. Die Fragen kommen aus allen Bereichen. Von Sport über Geschichte\, Gossip und Geographie. Ihr müsst Musikstücke und Personen erkennen\, aber auch einfach eine Inselbegabung haben und Wissen\, wie viel Stunden die durschchnittliche Philippinerin im Jahr 2023 auf Pornhub verbracht hat\, oder wo der Weltrekord liegt im Bierfilzl-Weitwerfen.\nDie Teilnahme ist kostenlos und es werden euch mehrere Stunden gute Unterhaltung versprochen.\nWir empfehlen euch in einer Teamgröße von 5 Personen anzutreten\, weil dann könnt ihr den vollen Preisgewinn abstauben.\nDem Gewinnerteam werden nämlich die Getränke des Abends bis zum Beginn der 9. Runde bezahlt.\n(Bei 6 Leuten im Team noch 80 Prozent der Rechnung\, bei 7 Leuten im Team noch 60 Prozent der Rechnung usw.)
URL:https://central-cafe-ffb.de/event/pubquiz/
LOCATION:Central Café\, Augsburger Str. 12\, Fürstenfeldbruck\, 82256
CATEGORIES:Pub Quiz
ATTACH;FMTTYPE=image/jpeg:https://central-cafe-ffb.de/wp-content/uploads/2024/04/Pubquiz.jpg
END:VEVENT
BEGIN:VEVENT
DTSTART;TZID=Europe/Berlin:20240427T200000
DTEND;TZID=Europe/Berlin:20240427T230000
DTSTAMP:20260420T034359
CREATED:20240322T103842Z
LAST-MODIFIED:20240322T110103Z
UID:184-1714248000-1714258800@central-cafe-ffb.de
SUMMARY:IsarKeys
DESCRIPTION:IsarKeys\, das sind: Jon Theifte\, Undagisinga Liadlmacha\, mit Vocals\, Gitarre und Banjo\, Martina Egginger\, The Jew’s Harp Lady\, mit Münchens coolster Maultrommel und Kleinpercussion\, und Herbert Siebler\, mit Bass und Blues Harp. Das eingespielte Trio präsentiert Evergreens und Eigenkompositionen. Country\, Folk\, Irish\, Bayrisch und mehr: Das vielseitige Repertoire und die nicht ganz alltägliche Instrumentierung garantieren einen ebenso ungewöhnlichen wie kurzweiligen Musikabend – zum Zuhören\, zum Lachen\, zum Nachdenken\, zum Mittanzen\, zum Mitsingen.
URL:https://central-cafe-ffb.de/event/isarkeys/
LOCATION:Central Café\, Augsburger Str. 12\, Fürstenfeldbruck\, 82256
CATEGORIES:Live Musik
ATTACH;FMTTYPE=image/jpeg:https://central-cafe-ffb.de/wp-content/uploads/2024/03/IsarKeys_Bildmotiv-mit-Logo-scaled.jpg
END:VEVENT
END:VCALENDAR