BEGIN:VCALENDAR
VERSION:2.0
PRODID:-//Central Café - ECPv6.15.20//NONSGML v1.0//EN
CALSCALE:GREGORIAN
METHOD:PUBLISH
X-WR-CALNAME:Central Café
X-ORIGINAL-URL:https://central-cafe-ffb.de
X-WR-CALDESC:Veranstaltungen für Central Café
REFRESH-INTERVAL;VALUE=DURATION:PT1H
X-Robots-Tag:noindex
X-PUBLISHED-TTL:PT1H
BEGIN:VTIMEZONE
TZID:Europe/Berlin
BEGIN:DAYLIGHT
TZOFFSETFROM:+0100
TZOFFSETTO:+0200
TZNAME:CEST
DTSTART:20250330T010000
END:DAYLIGHT
BEGIN:STANDARD
TZOFFSETFROM:+0200
TZOFFSETTO:+0100
TZNAME:CET
DTSTART:20251026T010000
END:STANDARD
BEGIN:DAYLIGHT
TZOFFSETFROM:+0100
TZOFFSETTO:+0200
TZNAME:CEST
DTSTART:20260329T010000
END:DAYLIGHT
BEGIN:STANDARD
TZOFFSETFROM:+0200
TZOFFSETTO:+0100
TZNAME:CET
DTSTART:20261025T010000
END:STANDARD
BEGIN:DAYLIGHT
TZOFFSETFROM:+0100
TZOFFSETTO:+0200
TZNAME:CEST
DTSTART:20270328T010000
END:DAYLIGHT
BEGIN:STANDARD
TZOFFSETFROM:+0200
TZOFFSETTO:+0100
TZNAME:CET
DTSTART:20271031T010000
END:STANDARD
END:VTIMEZONE
BEGIN:VEVENT
DTSTART;TZID=Europe/Berlin:20260207T200000
DTEND;TZID=Europe/Berlin:20260207T230000
DTSTAMP:20260420T145702
CREATED:20251218T114136Z
LAST-MODIFIED:20251218T114136Z
UID:1686-1770494400-1770505200@central-cafe-ffb.de
SUMMARY:Dracu & Band
DESCRIPTION:„Die erste Tournee im Jahr 2024 war einfach unglaublich. Die Menschen waren unglaublich toll und dank ihrer Gastfreundschaft habe ich mich sofort wie zu Hause gefühlt. Ich musste einfach wiederkommen!”\, resümiert Dracu nach seiner ersten Reise.\nDracu hat zahlreiche Auszeichnungen für seine einzigartige Stimme\, sein Songwriting und sein Gitarrenspiel erhalten\, ist aber auch bekannt für seine Ablehnung des Mainstreams und seine tiefe Liebe zur kulturellen Bewusstseinsbildung. Kein Streaming\, keine Trends\, sondern echte Menschen und echte Shows. Dracu lernt sein Publikum gerne kennen\, während er ihm eine wunderschöne Mischung aus Rock- und Soulmusik bietet\, handgemacht und ohne Extras. Wo auch immer der 32-jährige Gitarrist hingeht\, bringt er seine Tasche voller inspirierender Geschichten\, seine unvergleichliche Energie und Präsenz mit auf die Bühne.\nAufgewachsen mit altem Blues und Hardrock aus den 70er Jahren sowie modernem Heavy Metal aus Nordeuropa\, versteht es Dracu\, Können und Gefühl zu verbinden\, um seine Songs zugänglich zu machen\, egal ob man jung oder alt\, Blues-Liebhaber oder Headbanger ist. „Sicher\, ich war ein großer Fan von Jimi Hendrix\, Muddy Waters oder Deep Purple\, aber Turbonegro oder Children of Bodom bedeuten mir genauso viel. Das ist für mich also ganz natürlich“\, sagt Dracu über seine Einflüsse.
URL:https://central-cafe-ffb.de/event/dracu-band/
LOCATION:Central Café\, Augsburger Str. 12\, Fürstenfeldbruck\, 82256
CATEGORIES:Live Musik
ATTACH;FMTTYPE=image/jpeg:https://central-cafe-ffb.de/wp-content/uploads/2025/12/10-07.02-Dracu-Band-scaled.jpg
END:VEVENT
END:VCALENDAR