BEGIN:VCALENDAR
VERSION:2.0
PRODID:-//Central Café - ECPv6.15.20//NONSGML v1.0//EN
CALSCALE:GREGORIAN
METHOD:PUBLISH
X-WR-CALNAME:Central Café
X-ORIGINAL-URL:https://central-cafe-ffb.de
X-WR-CALDESC:Veranstaltungen für Central Café
REFRESH-INTERVAL;VALUE=DURATION:PT1H
X-Robots-Tag:noindex
X-PUBLISHED-TTL:PT1H
BEGIN:VTIMEZONE
TZID:Europe/Berlin
BEGIN:DAYLIGHT
TZOFFSETFROM:+0100
TZOFFSETTO:+0200
TZNAME:CEST
DTSTART:20230326T010000
END:DAYLIGHT
BEGIN:STANDARD
TZOFFSETFROM:+0200
TZOFFSETTO:+0100
TZNAME:CET
DTSTART:20231029T010000
END:STANDARD
BEGIN:DAYLIGHT
TZOFFSETFROM:+0100
TZOFFSETTO:+0200
TZNAME:CEST
DTSTART:20240331T010000
END:DAYLIGHT
BEGIN:STANDARD
TZOFFSETFROM:+0200
TZOFFSETTO:+0100
TZNAME:CET
DTSTART:20241027T010000
END:STANDARD
BEGIN:DAYLIGHT
TZOFFSETFROM:+0100
TZOFFSETTO:+0200
TZNAME:CEST
DTSTART:20250330T010000
END:DAYLIGHT
BEGIN:STANDARD
TZOFFSETFROM:+0200
TZOFFSETTO:+0100
TZNAME:CET
DTSTART:20251026T010000
END:STANDARD
END:VTIMEZONE
BEGIN:VEVENT
DTSTART;TZID=Europe/Berlin:20241011T200000
DTEND;TZID=Europe/Berlin:20241011T230000
DTSTAMP:20260419T183429
CREATED:20240323T162133Z
LAST-MODIFIED:20240323T162133Z
UID:232-1728676800-1728687600@central-cafe-ffb.de
SUMMARY:Mike Grabow & The Chili Bombs
DESCRIPTION:Endlich wieder Zurück\, Mike Grabow aus Mexiko auf Tour durch Bayern
URL:https://central-cafe-ffb.de/event/mike-grabow-the-chili-bombs/
CATEGORIES:Live Musik
ATTACH;FMTTYPE=image/jpeg:https://central-cafe-ffb.de/wp-content/uploads/2024/03/mike-Grabow.jpg
END:VEVENT
END:VCALENDAR