BEGIN:VCALENDAR
VERSION:2.0
PRODID:-//Central Café - ECPv6.15.20//NONSGML v1.0//EN
CALSCALE:GREGORIAN
METHOD:PUBLISH
X-ORIGINAL-URL:https://central-cafe-ffb.de
X-WR-CALDESC:Veranstaltungen für Central Café
REFRESH-INTERVAL;VALUE=DURATION:PT1H
X-Robots-Tag:noindex
X-PUBLISHED-TTL:PT1H
BEGIN:VTIMEZONE
TZID:Europe/Berlin
BEGIN:DAYLIGHT
TZOFFSETFROM:+0100
TZOFFSETTO:+0200
TZNAME:CEST
DTSTART:20230326T010000
END:DAYLIGHT
BEGIN:STANDARD
TZOFFSETFROM:+0200
TZOFFSETTO:+0100
TZNAME:CET
DTSTART:20231029T010000
END:STANDARD
BEGIN:DAYLIGHT
TZOFFSETFROM:+0100
TZOFFSETTO:+0200
TZNAME:CEST
DTSTART:20240331T010000
END:DAYLIGHT
BEGIN:STANDARD
TZOFFSETFROM:+0200
TZOFFSETTO:+0100
TZNAME:CET
DTSTART:20241027T010000
END:STANDARD
BEGIN:DAYLIGHT
TZOFFSETFROM:+0100
TZOFFSETTO:+0200
TZNAME:CEST
DTSTART:20250330T010000
END:DAYLIGHT
BEGIN:STANDARD
TZOFFSETFROM:+0200
TZOFFSETTO:+0100
TZNAME:CET
DTSTART:20251026T010000
END:STANDARD
END:VTIMEZONE
BEGIN:VEVENT
DTSTART;TZID=Europe/Berlin:20241005T200000
DTEND;TZID=Europe/Berlin:20241005T230000
DTSTAMP:20260419T181459
CREATED:20240710T134135Z
LAST-MODIFIED:20240710T134135Z
UID:503-1728158400-1728169200@central-cafe-ffb.de
SUMMARY:First Exit
DESCRIPTION:ans von guter Rockmusik und Südstaaten-Sound werden bei dieser fünfköpfigen Band aus Starnberg nicht still sitzen. Kernige Gitarrenriffs\, bewegende Melodien und kraftvolle Bassbeats bilden das Rückgrat eines abwechslungsreichen Repertoires jenseits des Mainstreams. Mit im Gepäck sind auch eigene Songs der zwei nativ-englischsprachigen Sänger. Rock\, Country\, Reggae\, Folk – auf Konzerten der First Exit wird es buchstäblich nicht klangweilig\, denn die stilistische Bandbreite bedient viele Musikgeschmäcker. Der Name der Band will vermitteln\, dass bekannte Interpreten wie Tom Petty\, Bob Dylan\, Eric Clapton\, Eagles und Mark Knopfler abseits der Charts Meisterwerke geschrieben haben\, die selbst vielen Fans noch unbekannt sind.\nUnsere Band besteht aus fünf Musikern: Drums\, Bass\, Lead\, Rhythm/Vocals\, Acoustic/Vocals. Zwei nativ englischsprachige Sänger runden den originalen Sound ab.
URL:https://central-cafe-ffb.de/event/first-exit/
LOCATION:Central Café\, Augsburger Str. 12\, Fürstenfeldbruck\, 82256
CATEGORIES:Live Musik
ATTACH;FMTTYPE=image/png:https://central-cafe-ffb.de/wp-content/uploads/2024/07/avatar.png
END:VEVENT
END:VCALENDAR