BEGIN:VCALENDAR
VERSION:2.0
PRODID:-//Central Café - ECPv6.15.20//NONSGML v1.0//EN
CALSCALE:GREGORIAN
METHOD:PUBLISH
X-ORIGINAL-URL:https://central-cafe-ffb.de
X-WR-CALDESC:Veranstaltungen für Central Café
REFRESH-INTERVAL;VALUE=DURATION:PT1H
X-Robots-Tag:noindex
X-PUBLISHED-TTL:PT1H
BEGIN:VTIMEZONE
TZID:Europe/Berlin
BEGIN:DAYLIGHT
TZOFFSETFROM:+0100
TZOFFSETTO:+0200
TZNAME:CEST
DTSTART:20230326T010000
END:DAYLIGHT
BEGIN:STANDARD
TZOFFSETFROM:+0200
TZOFFSETTO:+0100
TZNAME:CET
DTSTART:20231029T010000
END:STANDARD
BEGIN:DAYLIGHT
TZOFFSETFROM:+0100
TZOFFSETTO:+0200
TZNAME:CEST
DTSTART:20240331T010000
END:DAYLIGHT
BEGIN:STANDARD
TZOFFSETFROM:+0200
TZOFFSETTO:+0100
TZNAME:CET
DTSTART:20241027T010000
END:STANDARD
BEGIN:DAYLIGHT
TZOFFSETFROM:+0100
TZOFFSETTO:+0200
TZNAME:CEST
DTSTART:20250330T010000
END:DAYLIGHT
BEGIN:STANDARD
TZOFFSETFROM:+0200
TZOFFSETTO:+0100
TZNAME:CET
DTSTART:20251026T010000
END:STANDARD
END:VTIMEZONE
BEGIN:VEVENT
DTSTART;TZID=Europe/Berlin:20240928T200000
DTEND;TZID=Europe/Berlin:20240928T230000
DTSTAMP:20260419T202716
CREATED:20240710T133231Z
LAST-MODIFIED:20240827T205906Z
UID:501-1727553600-1727564400@central-cafe-ffb.de
SUMMARY:Titus Waldenfels\, Michael Reiserer und Gabriel McCaslin " Deep River Blues"
DESCRIPTION:Titus Waldenfels Gitarre\, Geige\, Banjo\, Steel GuitarGabriel McCaslin Gesang\, Gitarre\, GeigePetra Lewi ist Kulturpreisträgerin aus Freising\, die musikalische Drei-Minuten-Dramen kreiert mit Songsvon Songs von Tom Waits\, Nancy Sinatra\, Trude Herr\, Bally Prell\, Loretta Lynn\, Lana del Rey und anderen.Sie singt\, begleitet sich selber auf der Ukulele und spielt virtuos Singende Säge.Western Swing\, Blues & Songs aller Art mit Gitarre\, Geige\, Banjo\, Steel Guitar und Banjo spielt TitusWaldenfels aus München\, der seit 25 Jahren on the road ist\, mit Größen wie Embryo\, Mal Waldron oderEugene Chadbourne arbeitete\, Monate lang in Texas lebte\, Musik für Theaterproduktionen wie den‚Komödienstadel‘ oder den ‚Varreckten Hof‘ von Georg Ringsgwandl machte und mit seinem umfangreichenRepertoire\, seiner mühelosen Performance und direkten Kommunikation jedes Publikum begeistert.Heute dabei: Gabriel McCaslin aus Kalifornien\, der ein meisterhafter Fingerpicker ist und wunderbareLieder schreibt.„Hey Titus\, I’m your newest biggest fan! Mickey“Mickey Raphael\, Harmonica player of Willie Nelson’s Band„This is our friend Titus Waldenfels from Germany…. we met him last year in Luckenbach while he was onvacation. Incredible fiddle and guitar player as well as other instruments. Thanks for keeping it Country!“Charlie Day\, legendary musician from Texas and nephew of steel guitar hero Jimmy Day\, 2017„Der Münchner Musikfreak Titus Waldenfels überraschte mit einer selbst zusammengezimmertenDoppelhalsgitarre\, auf der er Ska\, Blues\, Rock und Jazz sowie die Begleitung zu manchem deutschen Songlieferte. So tanze er mit seinem eigenwilligen Instrument wie ein Derwisch kurz vor Mondaufgang.“Rheinpfalz\, Kaiserslautern 2016„Klangreise durch alle Befindlichkeiten – Populäre Musik zu vermitteln bedeutet nicht auch zwangsläufig\,sich dem ästhetischen wie anbiedernden Diktat des zeitgenössischen Pop anzupassen. Man kann schonpopulär klingen und zugleich auch kreativ sein. Jeder Song von Titus Waldenfels verströmt in denabenteuerlichen Weiten zwischen Pop und Jazz einen eigenen\, unverwechselbaren Reiz und ergreift in seinerungekünstelten Gradlinigkeit beinahe von jedem Hörer sofort Besitz.“Jörg Konrad\, Süddeutsche Zeitung FFB\, 23.03.09
URL:https://central-cafe-ffb.de/event/titus-waldenfels-petra-lewi-und-gabriel-mccaslin-deep-river-blues/
LOCATION:Central Café\, Augsburger Str. 12\, Fürstenfeldbruck\, 82256
CATEGORIES:Live Musik
ATTACH;FMTTYPE=image/jpeg:https://central-cafe-ffb.de/wp-content/uploads/2024/07/WaldenfelsMcCaslin.jpg
END:VEVENT
END:VCALENDAR