BEGIN:VCALENDAR
VERSION:2.0
PRODID:-//Central Café - ECPv6.15.20//NONSGML v1.0//EN
CALSCALE:GREGORIAN
METHOD:PUBLISH
X-WR-CALNAME:Central Café
X-ORIGINAL-URL:https://central-cafe-ffb.de
X-WR-CALDESC:Veranstaltungen für Central Café
REFRESH-INTERVAL;VALUE=DURATION:PT1H
X-Robots-Tag:noindex
X-PUBLISHED-TTL:PT1H
BEGIN:VTIMEZONE
TZID:Europe/Berlin
BEGIN:DAYLIGHT
TZOFFSETFROM:+0100
TZOFFSETTO:+0200
TZNAME:CEST
DTSTART:20230326T010000
END:DAYLIGHT
BEGIN:STANDARD
TZOFFSETFROM:+0200
TZOFFSETTO:+0100
TZNAME:CET
DTSTART:20231029T010000
END:STANDARD
BEGIN:DAYLIGHT
TZOFFSETFROM:+0100
TZOFFSETTO:+0200
TZNAME:CEST
DTSTART:20240331T010000
END:DAYLIGHT
BEGIN:STANDARD
TZOFFSETFROM:+0200
TZOFFSETTO:+0100
TZNAME:CET
DTSTART:20241027T010000
END:STANDARD
BEGIN:DAYLIGHT
TZOFFSETFROM:+0100
TZOFFSETTO:+0200
TZNAME:CEST
DTSTART:20250330T010000
END:DAYLIGHT
BEGIN:STANDARD
TZOFFSETFROM:+0200
TZOFFSETTO:+0100
TZNAME:CET
DTSTART:20251026T010000
END:STANDARD
END:VTIMEZONE
BEGIN:VEVENT
DTSTART;TZID=Europe/Berlin:20240925T200000
DTEND;TZID=Europe/Berlin:20240925T233000
DTSTAMP:20260419T202503
CREATED:20240918T132324Z
LAST-MODIFIED:20240918T132324Z
UID:602-1727294400-1727307000@central-cafe-ffb.de
SUMMARY:PUB QUIZ
DESCRIPTION:Die Sommerpause ist vorbei.\nWir starten in die Brucker Pub Quiz Saison 2024/25.\nEin paar neue Regeln\, neue Kategorien und eine Quartals- und Jahreswertung.\n\n\nSpielt in einem Team\, beantwortet Fragen aus zehn verschiedenen Kategorien\, und gewinnt am Ende des Abends.\nDem Gewinnerteam winken als Preis\, dass alle konsumierten Getränke aufs Haus gehen. (Max. 5 Personen)\n\n\nDie Teilnahme ist kostenlos.\n\n\nWir freuen uns auf euer Kommen.
URL:https://central-cafe-ffb.de/event/pub-quiz-2/
LOCATION:Central Café\, Augsburger Str. 12\, Fürstenfeldbruck\, 82256
CATEGORIES:Pub Quiz
ATTACH;FMTTYPE=image/jpeg:https://central-cafe-ffb.de/wp-content/uploads/2024/04/Pubquiz.jpg
END:VEVENT
END:VCALENDAR