BEGIN:VCALENDAR
VERSION:2.0
PRODID:-//Central Café - ECPv6.15.20//NONSGML v1.0//EN
CALSCALE:GREGORIAN
METHOD:PUBLISH
X-ORIGINAL-URL:https://central-cafe-ffb.de
X-WR-CALDESC:Veranstaltungen für Central Café
REFRESH-INTERVAL;VALUE=DURATION:PT1H
X-Robots-Tag:noindex
X-PUBLISHED-TTL:PT1H
BEGIN:VTIMEZONE
TZID:Europe/Berlin
BEGIN:DAYLIGHT
TZOFFSETFROM:+0100
TZOFFSETTO:+0200
TZNAME:CEST
DTSTART:20230326T010000
END:DAYLIGHT
BEGIN:STANDARD
TZOFFSETFROM:+0200
TZOFFSETTO:+0100
TZNAME:CET
DTSTART:20231029T010000
END:STANDARD
BEGIN:DAYLIGHT
TZOFFSETFROM:+0100
TZOFFSETTO:+0200
TZNAME:CEST
DTSTART:20240331T010000
END:DAYLIGHT
BEGIN:STANDARD
TZOFFSETFROM:+0200
TZOFFSETTO:+0100
TZNAME:CET
DTSTART:20241027T010000
END:STANDARD
BEGIN:DAYLIGHT
TZOFFSETFROM:+0100
TZOFFSETTO:+0200
TZNAME:CEST
DTSTART:20250330T010000
END:DAYLIGHT
BEGIN:STANDARD
TZOFFSETFROM:+0200
TZOFFSETTO:+0100
TZNAME:CET
DTSTART:20251026T010000
END:STANDARD
END:VTIMEZONE
BEGIN:VEVENT
DTSTART;TZID=Europe/Berlin:20240628T200000
DTEND;TZID=Europe/Berlin:20240628T230000
DTSTAMP:20260420T014313
CREATED:20240322T132938Z
LAST-MODIFIED:20240625T154625Z
UID:215-1719604800-1719615600@central-cafe-ffb.de
SUMMARY:Fever
DESCRIPTION:ACHTUNG  Vorverlegt auf Freitag 28.06. 20.00Uhr \n  \nDas virtuose Acoustic-Rock-Trio FEVER mit Ariane Deubl (Gesang)\, Renate Dienersberger (Piano/Gesang) und Stefan Mölle (Gitarre/Gesang) präsentiert u.a. mit Klassikern von Supertramp\, Eagles und Pink Floyd über Dusty Springfield\, Melissa Etheridge und Tina Turner bis hin zu Amy Winehouse\, Pink und Ed Sheeran einen Querschnitt feinster Rock- und Pop-Titel von den Siebzigern bis heute. Soviel sei noch verraten: FEVER wagt sich sogar an ABBA! Ausgefeilte Instrumental-Arrangements und Chorsätze sind genauso garantiert wie eine Menge guter Laune.
URL:https://central-cafe-ffb.de/event/fever/
LOCATION:Central Café\, Augsburger Str. 12\, Fürstenfeldbruck\, 82256
CATEGORIES:Live Musik
ATTACH;FMTTYPE=image/jpeg:https://central-cafe-ffb.de/wp-content/uploads/2024/03/IMG-20240410-WA0001.jpg
END:VEVENT
END:VCALENDAR