BEGIN:VCALENDAR
VERSION:2.0
PRODID:-//Central Café - ECPv6.15.20//NONSGML v1.0//EN
CALSCALE:GREGORIAN
METHOD:PUBLISH
X-WR-CALNAME:Central Café
X-ORIGINAL-URL:https://central-cafe-ffb.de
X-WR-CALDESC:Veranstaltungen für Central Café
REFRESH-INTERVAL;VALUE=DURATION:PT1H
X-Robots-Tag:noindex
X-PUBLISHED-TTL:PT1H
BEGIN:VTIMEZONE
TZID:Europe/Berlin
BEGIN:DAYLIGHT
TZOFFSETFROM:+0100
TZOFFSETTO:+0200
TZNAME:CEST
DTSTART:20230326T010000
END:DAYLIGHT
BEGIN:STANDARD
TZOFFSETFROM:+0200
TZOFFSETTO:+0100
TZNAME:CET
DTSTART:20231029T010000
END:STANDARD
BEGIN:DAYLIGHT
TZOFFSETFROM:+0100
TZOFFSETTO:+0200
TZNAME:CEST
DTSTART:20240331T010000
END:DAYLIGHT
BEGIN:STANDARD
TZOFFSETFROM:+0200
TZOFFSETTO:+0100
TZNAME:CET
DTSTART:20241027T010000
END:STANDARD
BEGIN:DAYLIGHT
TZOFFSETFROM:+0100
TZOFFSETTO:+0200
TZNAME:CEST
DTSTART:20250330T010000
END:DAYLIGHT
BEGIN:STANDARD
TZOFFSETFROM:+0200
TZOFFSETTO:+0100
TZNAME:CET
DTSTART:20251026T010000
END:STANDARD
END:VTIMEZONE
BEGIN:VEVENT
DTSTART;TZID=Europe/Berlin:20240622T200000
DTEND;TZID=Europe/Berlin:20240622T230000
DTSTAMP:20260420T014909
CREATED:20240404T105451Z
LAST-MODIFIED:20240404T105451Z
UID:279-1719086400-1719097200@central-cafe-ffb.de
SUMMARY:Bluehouse
DESCRIPTION:BLUEHOUSE\n„The Unexpected Cover“ – von Beatles über Joe Bonamassa bis hin zu Jimi Hendrix und\nPrince. Das sind BLUEHOUSE aus München.\nDie fünfköpfige Band um Vater Andreas und Sohn Felix Schenz entführt das Publikum zurück in\nseine Jugend. Mit überraschenden Interpretationen von Blues- und Rock Klassikern erinnern\nBluehouse an Songs die man kennt\, aber selten live zu hören bekommt. Bluehouse bereiten\ndem Publikum damit „Wow !“- Momente zum Tanzen\, Rocken und Sich-in-den-Armen-\nLiegen.
URL:https://central-cafe-ffb.de/event/bluehouse/
LOCATION:Central Café\, Augsburger Str. 12\, Fürstenfeldbruck\, 82256
CATEGORIES:Live Musik
ATTACH;FMTTYPE=image/jpeg:https://central-cafe-ffb.de/wp-content/uploads/2024/04/bluehouse.jpg
END:VEVENT
END:VCALENDAR