BEGIN:VCALENDAR
VERSION:2.0
PRODID:-//Central Café - ECPv6.15.20//NONSGML v1.0//EN
CALSCALE:GREGORIAN
METHOD:PUBLISH
X-ORIGINAL-URL:https://central-cafe-ffb.de
X-WR-CALDESC:Veranstaltungen für Central Café
REFRESH-INTERVAL;VALUE=DURATION:PT1H
X-Robots-Tag:noindex
X-PUBLISHED-TTL:PT1H
BEGIN:VTIMEZONE
TZID:Europe/Berlin
BEGIN:DAYLIGHT
TZOFFSETFROM:+0100
TZOFFSETTO:+0200
TZNAME:CEST
DTSTART:20230326T010000
END:DAYLIGHT
BEGIN:STANDARD
TZOFFSETFROM:+0200
TZOFFSETTO:+0100
TZNAME:CET
DTSTART:20231029T010000
END:STANDARD
BEGIN:DAYLIGHT
TZOFFSETFROM:+0100
TZOFFSETTO:+0200
TZNAME:CEST
DTSTART:20240331T010000
END:DAYLIGHT
BEGIN:STANDARD
TZOFFSETFROM:+0200
TZOFFSETTO:+0100
TZNAME:CET
DTSTART:20241027T010000
END:STANDARD
BEGIN:DAYLIGHT
TZOFFSETFROM:+0100
TZOFFSETTO:+0200
TZNAME:CEST
DTSTART:20250330T010000
END:DAYLIGHT
BEGIN:STANDARD
TZOFFSETFROM:+0200
TZOFFSETTO:+0100
TZNAME:CET
DTSTART:20251026T010000
END:STANDARD
END:VTIMEZONE
BEGIN:VEVENT
DTSTART;TZID=Europe/Berlin:20240601T200000
DTEND;TZID=Europe/Berlin:20240601T230000
DTSTAMP:20260420T014845
CREATED:20240323T171347Z
LAST-MODIFIED:20240417T095202Z
UID:244-1717272000-1717282800@central-cafe-ffb.de
SUMMARY:Rock Lounge Orchestra
DESCRIPTION:Das Münchner Rockquintett macht „Classic Rock mit Stil“ – eingängige bunte Rock-Songs mit Ohrwurm-Gefahr und augenzwinkerndem Schalk im Nacken.\nVerfeinert werden die LiveKonzerte außerdem mit ausgewählten Cover-Songs.\nDie pure Lust am Spielen reißt ebenso mit\, wie der mehrstimmige Gesang\, der RLO in klassischer Besetzung\, mit Saxophon\, Trompete und Geige seine unverwechselbare Note verleiht.\nAuf dem Münchner Tollwood treten sie inzwischen regelmäßig auf\, aber auch auf kleineren Bühnen und Kneipen lassen sie die Auftritte zu einem besonderen Erlebnis werden.
URL:https://central-cafe-ffb.de/event/rock-lounge-orchestra/
LOCATION:Central Café\, Augsburger Str. 12\, Fürstenfeldbruck\, 82256
CATEGORIES:Live Musik
ATTACH;FMTTYPE=image/png:https://central-cafe-ffb.de/wp-content/uploads/2024/03/Plakat_Martina2.png
END:VEVENT
END:VCALENDAR