BEGIN:VCALENDAR
VERSION:2.0
PRODID:-//Central Café - ECPv6.15.20//NONSGML v1.0//EN
CALSCALE:GREGORIAN
METHOD:PUBLISH
X-ORIGINAL-URL:https://central-cafe-ffb.de
X-WR-CALDESC:Veranstaltungen für Central Café
REFRESH-INTERVAL;VALUE=DURATION:PT1H
X-Robots-Tag:noindex
X-PUBLISHED-TTL:PT1H
BEGIN:VTIMEZONE
TZID:Europe/Berlin
BEGIN:DAYLIGHT
TZOFFSETFROM:+0100
TZOFFSETTO:+0200
TZNAME:CEST
DTSTART:20230326T010000
END:DAYLIGHT
BEGIN:STANDARD
TZOFFSETFROM:+0200
TZOFFSETTO:+0100
TZNAME:CET
DTSTART:20231029T010000
END:STANDARD
BEGIN:DAYLIGHT
TZOFFSETFROM:+0100
TZOFFSETTO:+0200
TZNAME:CEST
DTSTART:20240331T010000
END:DAYLIGHT
BEGIN:STANDARD
TZOFFSETFROM:+0200
TZOFFSETTO:+0100
TZNAME:CET
DTSTART:20241027T010000
END:STANDARD
BEGIN:DAYLIGHT
TZOFFSETFROM:+0100
TZOFFSETTO:+0200
TZNAME:CEST
DTSTART:20250330T010000
END:DAYLIGHT
BEGIN:STANDARD
TZOFFSETFROM:+0200
TZOFFSETTO:+0100
TZNAME:CET
DTSTART:20251026T010000
END:STANDARD
END:VTIMEZONE
BEGIN:VEVENT
DTSTART;TZID=Europe/Berlin:20240504T200000
DTEND;TZID=Europe/Berlin:20240504T230000
DTSTAMP:20260420T034347
CREATED:20240322T104121Z
LAST-MODIFIED:20240322T110138Z
UID:187-1714852800-1714863600@central-cafe-ffb.de
SUMMARY:Susi & Friends
DESCRIPTION:Susi & Friends – Rock & Roll – Oldie – Band\n\nWem sind sie nicht in Erinnerung – fetzige Rock’n’Roll Hits von Elvis Presley\, Little Richard\, kultige Songs der McCoys\, Bellamy Brothers\, Dion und schön romantische Balladen von Roy Orbison und Ben E. King?\n\nSusi & Friends nehmen euch mit auf eine musikalische Reise durch die fünfziger\, sechziger und siebziger Jahre und sorgen für einen unvergesslich schönen Abend mit Hits dieser Zeit.
URL:https://central-cafe-ffb.de/event/susi-friends/
LOCATION:Central Café\, Augsburger Str. 12\, Fürstenfeldbruck\, 82256
CATEGORIES:Live Musik
ATTACH;FMTTYPE=image/jpeg:https://central-cafe-ffb.de/wp-content/uploads/2024/03/IMG-20240206-WA0001.jpg
END:VEVENT
END:VCALENDAR